Workbook
Name ChampsData: #REF!
Name ChampsData: #REF!
Name ChampsData: #REF!
Name ChampsData: WatchList!$A$6:$B$20
Name ChampsData: #REF!
Name ContendersData: #REF!
Name ContendersData: #REF!
Name ContendersData: #REF!
Name ContendersData: #REF!
Name CzallengersData: #REF!
Name CzallengersData: #REF!
Name CzallengersData: #REF!
Name CzallengersData: #REF!
Name DataAll: Challengers!$A$7:$BC$223
Name DataAll: Champions!$A$7:$BC$145
Name DataAll: Contenders!$A$7:$BC$280
Name DataAll: Historical!$A$7:$AV$640
Name DataAll: 'All CCC'!$A$7:$BC$636
Name Deletions: Changes!$A$8:$I$803
Name FrozenAngels: Notes!$A$230:$J$265
Name NearChallengers: Notes!$A$186:$F$214
Name WatchList: WatchList!$A$6:$B$20

Sheet Title
M6: The Dividend Champions List
M8: A Resource For Dividend Growth Investors
M18: A monthly publication tracking companies with a history of consistently increasing their dividends
M20: To be included on the list, a company must be consistently increasing its calendar year dividend payout for at least the past 5 years
M36: Created by David Fish
M38: Updated by Justin Law
M40: ©2020 All Rights Reserved. This listing is intended for personal, non-commercial use only.

Sheet Champions
A1: U.S. Dividend Champions | C1: End-of-month update at: | J1: Dividend Information | Z1: Fundamental Data | AC1: Numbers in Blue directly from Finviz | AO1: Special | AR1: Dividend Growth Model | AY1: Technical Data | BD1: Other
A2: (and American Depository Receipts) | C2: http://dripinvesting.org/Tools/Tools.asp | J2: DEG=Dividend to Earnings Growth; A/D=Acceleration/Deceleration; DGR=Dividend Growth Rate | Z2: EPS=Earnings Per Share; P/E=Price/Earnings Per Share; TTM=Trailing Twelve Months; FYE=Fiscal Year End; MRQ=Most Recent Quarter; ROE = Return on Equity | AO2: (see Notes tab) | AR2: (based on Earnings Estimates, if available) | AY2: MMA=Moving Market Average
A3: 44134 | J3: Dates in Red (right-aligned) indicate last increase more than a year ago (Ex-Div Date) | Q3: Dates in Green (centered) indicate increase (by Ex-Div. Date) expected in next 2 months | AR3: Past Performance is No Guarantee of Future Results
J4: Numbers in Gray last updated 12/31/2019 | Z4: Disclaimer: Although all figures are thought to be correct, no guarantee is expressed or implied. | AR4: Last updated 12/31/2019 | AW4: 5-year Total | AZ4: Current Price as % from:
A5: Company | B5: Ticker | E5: No. | F5: CCC | G5: DRIP Fees | I5: 44134 | J5: Div. | K5: Current | L5: Payouts/ | N5: Qtly | O5: Previous | P5: Last Increased on: | R5: MR% | S5: DGR | T5: DGR | U5: DGR | V5: DGR | W5: 5/10 | X5: Past 5yr | Y5: &=MultiIncThisYr | Z5: EPS% | AA5: TTM | AB5: FYE | AC5: TTM | AE5: TTM | AF5: MRQ | AG5: TTM | AH5: TTM | AI5: NY | AJ5: Past 5yr | AK5: Est-5yr | AL5: MktCap | AM5: Inside | AN5: Debt/ | AO5: Tweed | AP5: Chowder | AQ5: +/-% vs. | AR5: Estimated Dividends to be Paid in Year: | AW5: Est. Payback | AY5: 5-yr | AZ5: 52-wk | BA5: 52-wk | BB5: 50-day | BC5: 200-day | BE5: Streak | BF5: Recessions | BG5: TTM
A6: Name | B6: Symbol | C6: Sector | D6: Industry | E6: Yrs | F6: Seq | G6: DR | H6: SP | I6: Price | J6: Yield | K6: Dividend | L6: Year | M6: Annualized | N6: Sch | O6: Payout | P6: Ex-Div | Q6: Pay | R6: Inc. | S6: 1-yr | T6: 3-yr | U6: 5-yr | V6: 10-yr | W6: A/D* | X6: DEG | Y6: Notes | Z6: Payout | AA6: P/E | AB6: Month | AC6: EPS | AD6: PEG | AE6: P/Sales | AF6: P/Book | AG6: ROE | AH6: Growth | AI6: Growth | AJ6: Growth | AK6: Growth | AL6: ($Mil) | AM6: Own. | AN6: Equity | AO6: Factor | AP6: Rule | AQ6: Graham | AR6: 2020 | AS6: 2021 | AT6: 2022 | AU6: 2023 | AV6: 2024 | AW6: $ | AX6: % | AY6: Beta | AZ6: Low | BA6: High | BB6: MMA | BC6: MMA | BD6: OTC | BE6: Began | BF6: Survived | BG6: ROA
A7: ABM Industries Inc. | B7: ABM | C7: Industrials | D7: Commercial Services & Supplies | E7: 53 | F7: 17 | G7: Y | H7: N | I7: 34.72 | J7: =(M7/I7)*100 -> 2.1313364 | K7: 0.185 | L7: 4 | M7: =K7*L7 -> 0.74 | N7: B05 | O7: 0.18 | P7: 43829 | Q7: 43863 | R7: =(K7-O7)/O7*100 -> 2.7777778 | S7: =IF(INDEX(Historical!$D$7:$D$1254,MATCH(B7,Historical!$B$7:$B$1278,0))=0,"n/a",(INDEX(Historical!$C$7:$C$1256,MATCH(B7,Historical!$B$7:$B$1278,0))/INDEX(Historical!$D$7:$D$1254,MATCH(B7,Historical!$B$7:$B$1278,0))-1)*100) -> 2.8571429 | T7: =IF(INDEX(Historical!$F$7:$F$1247,MATCH(B7,Historical!$B$7:$B$1278,0))=0,"n/a",((INDEX(Historical!$C$7:$C$1256,MATCH(B7,Historical!$B$7:$B$1278,0))/INDEX(Historical!$F$7:$F$1247,MATCH(B7,Historical!$B$7:$B$1278,0)))^(1/3)-1)*100) -> 2.9428498 | U7: =IF(INDEX(Historical!$H$7:$H$1247,MATCH(B7,Historical!$B$7:$B$1278,0))=0,"n/a",((INDEX(Historical!$C$7:$C$1256,MATCH(B7,Historical!$B$7:$B$1278,0))/INDEX(Historical!$H$7:$H$1247,MATCH(B7,Historical!$B$7:$B$1278,0)))^(1/5)-1)*100) -> 3.0358033 | V7: =IF(INDEX(Historical!$O$7:$O$1247,MATCH(B7,Historical!$B$7:$B$1278,0))=0,"n/a",((INDEX(Historical!$C$7:$C$1256,MATCH(B7,Historical!$B$7:$B$1278,0))/INDEX(Historical!$O$7:$O$1247,MATCH(B7,Historical!$B$7:$B$1278,0)))^(1/10)-1)*100) -> 3.3077529 | W7: =IF(OR(U7<=0,U7="n/a",V7<=0,V7="n/a"),"n/a",U7/V7) -> 0.91778418 | X7: =IF(OR(AJ7<=0,AJ7="n/a",U7<=0,U7="n/a"),"n/a",U7/AJ7) -> 0.29762778 | Z7: =IF(OR(AC7<0.01,AC7="n/a"),"n/a",M7/AC7*100) -> n/a | AA7: =IF(OR(AC7<0.01,AC7="n/a"),"n/a",I7/AC7) -> n/a | AB7: 10 | AC7: -0.08 | AD7: n/a | AE7: 0.37 | AF7: 1.6 | AG7: -0.3 | AH7: 78.5 | AI7: -5.2 | AJ7: 10.2 | AK7: 16 | AL7: 2270 | AM7: 1.1 | AN7: 0.52 | AO7: =IF(U7="n/a","n/a",IF(AA7<0,"n/a",IF(AA7="n/a","n/a",J7+U7-AA7))) -> n/a | AP7: =IF(U7="n/a","n/a",J7+U7) -> 5.1671397 | AQ7: =IF(OR(AC7<0.01,AF7="n/a"),"n/a",(I7/SQRT(22.5*AC7*(I7/AF7))-1)*100) -> n/a | AR7: =INDEX(Historical!$C$7:$C$1256,MATCH(B7,Historical!$B$7:$B$1278,0))*IF(AH7="n/a",1.03,IF(AH7<0,1.01,IF(AH7>10,1.1,(1+AH7/100)))) -> 0.792 | AS7: =IF($AI7="n/a",1.03*AR7,IF($AI7<0,1.01*AR7,IF($AI7>10,1.1*AR7,(1+$AI7/100)*AR7))) -> 0.79992 | AT7: =IF($AK7="n/a",1.03*AS7,IF($AK7<0,1.01*AS7,IF($AK7>10,1.1*AS7,(1+$AK7/100)*AS7))) -> 0.879912 | AU7: =IF($AK7="n/a",1.03*AT7,IF($AK7<0,1.01*AT7,IF($AK7>10,1.1*AT7,(1+$AK7/100)*AT7))) -> 0.9679032 | AV7: =IF($AK7="n/a",1.03*AU7,IF($AK7<0,1.01*AU7,IF($AK7>10,1.1*AU7,(1+$AK7/100)*AU7))) -> 1.0646935 | AW7: =SUM(AR7:AV7) -> 4.5044287 | AX7: =AW7/I7*100 -> 12.973585 | AY7: 1.25 | AZ7: 75.44 | BA7: -14.86 | BB7: -5.75 | BC7: 0.74 | BE7: 1968 | BF7: =IF(BE7>2008,0,IF(BE7>2001,1,IF(BE7>1990,2,IF(BE7>1980,3,IF(BE7>1973,4,IF(BE7>1970,5,IF(BE7>1960,6,IF(BE7>1958,7,IF(BE7>1953,8,9))))))))) -> 6 | BG7: -0.1
A8: Archer Daniels Midland | B8: ADM | C8: Consumer Staples | D8: Food Products | E8: 45 | F8: 53 | G8: N | H8: Y | I8: 46.24 | J8: =(M8/I8)*100 -> 3.1141869 | K8: 0.36 | L8: 4 | M8: =K8*L8 -> 1.44 | N8: C13 | O8: 0.35 | P8: 43873 | Q8: 43895 | R8: =(K8-O8)/O8*100 -> 2.8571429 | S8: =IF(INDEX(Historical!$D$7:$D$1254,MATCH(B8,Historical!$B$7:$B$1278,0))=0,"n/a",(INDEX(Historical!$C$7:$C$1256,MATCH(B8,Historical!$B$7:$B$1278,0))/INDEX(Historical!$D$7:$D$1254,MATCH(B8,Historical!$B$7:$B$1278,0))-1)*100) -> 4.4776119 | T8: =IF(INDEX(Historical!$F$7:$F$1247,MATCH(B8,Historical!$B$7:$B$1278,0))=0,"n/a",((INDEX(Historical!$C$7:$C$1256,MATCH(B8,Historical!$B$7:$B$1278,0))/INDEX(Historical!$F$7:$F$1247,MATCH(B8,Historical!$B$7:$B$1278,0)))^(1/3)-1)*100) -> 5.27266 | U8: =IF(INDEX(Historical!$H$7:$H$1247,MATCH(B8,Historical!$B$7:$B$1278,0))=0,"n/a",((INDEX(Historical!$C$7:$C$1256,MATCH(B8,Historical!$B$7:$B$1278,0))/INDEX(Historical!$H$7:$H$1247,MATCH(B8,Historical!$B$7:$B$1278,0)))^(1/5)-1)*100) -> 7.8378847 | V8: =IF(INDEX(Historical!$O$7:$O$1247,MATCH(B8,Historical!$B$7:$B$1278,0))=0,"n/a",((INDEX(Historical!$C$7:$C$1256,MATCH(B8,Historical!$B$7:$B$1278,0))/INDEX(Historical!$O$7:$O$1247,MATCH(B8,Historical!$B$7:$B$1278,0)))^(1/10)-1)*100) -> 9.5958226 | W8: =IF(OR(U8<=0,U8="n/a",V8<=0,V8="n/a"),"n/a",U8/V8) -> 0.81680175 | X8: =IF(OR(AJ8<=0,AJ8="n/a",U8<=0,U8="n/a"),"n/a",U8/AJ8) -> n/a | Z8: =IF(OR(AC8<0.01,AC8="n/a"),"n/a",M8/AC8*100) -> 44.720497 | AA8: =IF(OR(AC8<0.01,AC8="n/a"),"n/a",I8/AC8) -> 14.360248 | AB8: 6 | AC8: 3.22 | AD8: n/a | AE8: 0.4 | AF8: 1.34 | AG8: 9.3 | AH8: -19.9 | AI8: 8.52 | AJ8: -6 | AK8: -8.8 | AL8: 25600 | AM8: 0.3 | AN8: 0.48 | AO8: =IF(U8="n/a","n/a",IF(AA8<0,"n/a",IF(AA8="n/a","n/a",J8+U8-AA8))) -> -3.4081769 | AP8: =IF(U8="n/a","n/a",J8+U8) -> 10.952072 | AQ8: =IF(OR(AC8<0.01,AF8="n/a"),"n/a",(I8/SQRT(22.5*AC8*(I8/AF8))-1)*100) -> -7.5212146 | AR8: =INDEX(Historical!$C$7:$C$1256,MATCH(B8,Historical!$B$7:$B$1278,0))*IF(AH8="n/a",1.03,IF(AH8<0,1.01,IF(AH8>10,1.1,(1+AH8/100)))) -> 1.414 | AS8: =IF($AI8="n/a",1.03*AR8,IF($AI8<0,1.01*AR8,IF($AI8>10,1.1*AR8,(1+$AI8/100)*AR8))) -> 1.5344728 | AT8: =IF($AK8="n/a",1.03*AS8,IF($AK8<0,1.01*AS8,IF($AK8>10,1.1*AS8,(1+$AK8/100)*AS8))) -> 1.5498175 | AU8: =IF($AK8="n/a",1.03*AT8,IF($AK8<0,1.01*AT8,IF($AK8>10,1.1*AT8,(1+$AK8/100)*AT8))) -> 1.5653157 | AV8: =IF($AK8="n/a",1.03*AU8,IF($AK8<0,1.01*AU8,IF($AK8>10,1.1*AU8,(1+$AK8/100)*AU8))) -> 1.5809689 | AW8: =SUM(AR8:AV8) -> 7.6445749 | AX8: =AW8/I8*100 -> 16.532385 | AY8: 0.91 | AZ8: 59.89 | BA8: -11.16 | BB8: -2.37 | BC8: 11.67 | BE8: 1976 | BF8: =IF(BE8>2008,0,IF(BE8>2001,1,IF(BE8>1990,2,IF(BE8>1980,3,IF(BE8>1973,4,IF(BE8>1970,5,IF(BE8>1960,6,IF(BE8>1958,7,IF(BE8>1953,8,9))))))))) -> 4 | BG8: 4
A9: Automatic Data Proc. | B9: ADP | C9: Information Technology | D9: IT Services | E9: 44 | F9: 58 | G9: N | H9: Y | I9: 157.96 | J9: =(M9/I9)*100 -> 2.3043809 | K9: 0.91 | L9: 4 | M9: =K9*L9 -> 3.64 | N9: A01 | O9: 0.79 | P9: 43810 | Q9: 43830 | R9: =(K9-O9)/O9*100 -> 15.189873 | S9: =IF(INDEX(Historical!$D$7:$D$1254,MATCH(B9,Historical!$B$7:$B$1278,0))=0,"n/a",(INDEX(Historical!$C$7:$C$1256,MATCH(B9,Historical!$B$7:$B$1278,0))/INDEX(Historical!$D$7:$D$1254,MATCH(B9,Historical!$B$7:$B$1278,0))-1)*100) -> 19.69697 | T9: =IF(INDEX(Historical!$F$7:$F$1247,MATCH(B9,Historical!$B$7:$B$1278,0))=0,"n/a",((INDEX(Historical!$C$7:$C$1256,MATCH(B9,Historical!$B$7:$B$1278,0))/INDEX(Historical!$F$7:$F$1247,MATCH(B9,Historical!$B$7:$B$1278,0)))^(1/3)-1)*100) -> 14.230937 | U9: =IF(INDEX(Historical!$H$7:$H$1247,MATCH(B9,Historical!$B$7:$B$1278,0))=0,"n/a",((INDEX(Historical!$C$7:$C$1256,MATCH(B9,Historical!$B$7:$B$1278,0))/INDEX(Historical!$H$7:$H$1247,MATCH(B9,Historical!$B$7:$B$1278,0)))^(1/5)-1)*100) -> 13.391993 | V9: =IF(INDEX(Historical!$O$7:$O$1247,MATCH(B9,Historical!$B$7:$B$1278,0))=0,"n/a",((INDEX(Historical!$C$7:$C$1256,MATCH(B9,Historical!$B$7:$B$1278,0))/INDEX(Historical!$O$7:$O$1247,MATCH(B9,Historical!$B$7:$B$1278,0)))^(1/10)-1)*100) -> 10.606348 | W9: =IF(OR(U9<=0,U9="n/a",V9<=0,V9="n/a"),"n/a",U9/V9) -> 1.2626395 | X9: =IF(OR(AJ9<=0,AJ9="n/a",U9<=0,U9="n/a"),"n/a",U9/AJ9) -> 0.92358574 | Z9: =IF(OR(AC9<0.01,AC9="n/a"),"n/a",M9/AC9*100) -> 64.084507 | AA9: =IF(OR(AC9<0.01,AC9="n/a"),"n/a",I9/AC9) -> 27.809859 | AB9: 6 | AC9: 5.68 | AD9: 2.63 | AE9: 4.64 | AF9: 11.78 | AG9: 44.9 | AH9: 8.5 | AI9: 19.33 | AJ9: 14.5 | AK9: 10.57 | AL9: 67740 | AM9: 0.1 | AN9: 0.35 | AO9: =IF(U9="n/a","n/a",IF(AA9<0,"n/a",IF(AA9="n/a","n/a",J9+U9-AA9))) -> -12.113485 | AP9: =IF(U9="n/a","n/a",J9+U9) -> 15.696374 | AQ9: =IF(OR(AC9<0.01,AF9="n/a"),"n/a",(I9/SQRT(22.5*AC9*(I9/AF9))-1)*100) -> 281.57576 | AR9: =INDEX(Historical!$C$7:$C$1256,MATCH(B9,Historical!$B$7:$B$1278,0))*IF(AH9="n/a",1.03,IF(AH9<0,1.01,IF(AH9>10,1.1,(1+AH9/100)))) -> 3.4286 | AS9: =IF($AI9="n/a",1.03*AR9,IF($AI9<0,1.01*AR9,IF($AI9>10,1.1*AR9,(1+$AI9/100)*AR9))) -> 3.77146 | AT9: =IF($AK9="n/a",1.03*AS9,IF($AK9<0,1.01*AS9,IF($AK9>10,1.1*AS9,(1+$AK9/100)*AS9))) -> 4.148606 | AU9: =IF($AK9="n/a",1.03*AT9,IF($AK9<0,1.01*AT9,IF($AK9>10,1.1*AT9,(1+$AK9/100)*AT9))) -> 4.5634666 | AV9: =IF($AK9="n/a",1.03*AU9,IF($AK9<0,1.01*AU9,IF($AK9>10,1.1*AU9,(1+$AK9/100)*AU9))) -> 5.0198133 | AW9: =SUM(AR9:AV9) -> 20.931946 | AX9: =AW9/I9*100 -> 13.251422 | AY9: 0.76 | AZ9: 53.2 | BA9: -13.36 | BB9: 11.87 | BC9: 7.6 | BE9: 1976 | BF9: =IF(BE9>2008,0,IF(BE9>2001,1,IF(BE9>1990,2,IF(BE9>1980,3,IF(BE9>1973,4,IF(BE9>1970,5,IF(BE9>1960,6,IF(BE9>1958,7,IF(BE9>1953,8,9))))))))) -> 4 | BG9: 5.8
A10: AFLAC Inc. | B10: AFL | C10: Financials | D10: Insurance | E10: 38 | F10: 69 | G10: N | H10: N | I10: 33.95 | J10: =(M10/I10)*100 -> 3.2989691 | K10: 0.28 | L10: 4 | M10: =K10*L10 -> 1.12 | N10: C01 | O10: 0.27 | P10: 43879 | Q10: 43892 | R10: =(K10-O10)/O10*100 -> 3.7037037 | S10: =IF(INDEX(Historical!$D$7:$D$1254,MATCH(B10,Historical!$B$7:$B$1278,0))=0,"n/a",(INDEX(Historical!$C$7:$C$1256,MATCH(B10,Historical!$B$7:$B$1278,0))/INDEX(Historical!$D$7:$D$1254,MATCH(B10,Historical!$B$7:$B$1278,0))-1)*100) -> 3.8461538 | T10: =IF(INDEX(Historical!$F$7:$F$1247,MATCH(B10,Historical!$B$7:$B$1278,0))=0,"n/a",((INDEX(Historical!$C$7:$C$1256,MATCH(B10,Historical!$B$7:$B$1278,0))/INDEX(Historical!$F$7:$F$1247,MATCH(B10,Historical!$B$7:$B$1278,0)))^(1/3)-1)*100) -> 9.1729941 | U10: =IF(INDEX(Historical!$H$7:$H$1247,MATCH(B10,Historical!$B$7:$B$1278,0))=0,"n/a",((INDEX(Historical!$C$7:$C$1256,MATCH(B10,Historical!$B$7:$B$1278,0))/INDEX(Historical!$H$7:$H$1247,MATCH(B10,Historical!$B$7:$B$1278,0)))^(1/5)-1)*100) -> 7.8545341 | V10: =IF(INDEX(Historical!$O$7:$O$1247,MATCH(B10,Historical!$B$7:$B$1278,0))=0,"n/a",((INDEX(Historical!$C$7:$C$1256,MATCH(B10,Historical!$B$7:$B$1278,0))/INDEX(Historical!$O$7:$O$1247,MATCH(B10,Historical!$B$7:$B$1278,0)))^(1/10)-1)*100) -> 6.7882754 | W10: =IF(OR(U10<=0,U10="n/a",V10<=0,V10="n/a"),"n/a",U10/V10) -> 1.1570736 | X10: =IF(OR(AJ10<=0,AJ10="n/a",U10<=0,U10="n/a"),"n/a",U10/AJ10) -> 1.227271 | Z10: =IF(OR(AC10<0.01,AC10="n/a"),"n/a",M10/AC10*100) -> 28 | AA10: =IF(OR(AC10<0.01,AC10="n/a"),"n/a",I10/AC10) -> 8.4875 | AB10: 12 | AC10: 4 | AD10: 3.36 | AE10: 1.1 | AF10: 0.83 | AG10: 10.3 | AH10: 16.7 | AI10: -3.49 | AJ10: 6.4 | AK10: 2.53 | AL10: 23990 | AM10: 0.1 | AN10: 0.26 | AO10: =IF(U10="n/a","n/a",IF(AA10<0,"n/a",IF(AA10="n/a","n/a",J10+U10-AA10))) -> 2.6660032 | AP10: =IF(U10="n/a","n/a",J10+U10) -> 11.153503 | AQ10: =IF(OR(AC10<0.01,AF10="n/a"),"n/a",(I10/SQRT(22.5*AC10*(I10/AF10))-1)*100) -> -44.045157 | AR10: =INDEX(Historical!$C$7:$C$1256,MATCH(B10,Historical!$B$7:$B$1278,0))*IF(AH10="n/a",1.03,IF(AH10<0,1.01,IF(AH10>10,1.1,(1+AH10/100)))) -> 1.188 | AS10: =IF($AI10="n/a",1.03*AR10,IF($AI10<0,1.01*AR10,IF($AI10>10,1.1*AR10,(1+$AI10/100)*AR10))) -> 1.19988 | AT10: =IF($AK10="n/a",1.03*AS10,IF($AK10<0,1.01*AS10,IF($AK10>10,1.1*AS10,(1+$AK10/100)*AS10))) -> 1.230237 | AU10: =IF($AK10="n/a",1.03*AT10,IF($AK10<0,1.01*AT10,IF($AK10>10,1.1*AT10,(1+$AK10/100)*AT10))) -> 1.261362 | AV10: =IF($AK10="n/a",1.03*AU10,IF($AK10<0,1.01*AU10,IF($AK10>10,1.1*AU10,(1+$AK10/100)*AU10))) -> 1.2932744 | AW10: =SUM(AR10:AV10) -> 6.1727533 | AX10: =AW10/I10*100 -> 18.181895 | AY10: 0.79 | AZ10: 47.16 | BA10: -38.35 | BB10: -7.72 | BC10: -11.7 | BE10: 1983 | BF10: =IF(BE10>2008,0,IF(BE10>2001,1,IF(BE10>1990,2,IF(BE10>1980,3,IF(BE10>1973,4,IF(BE10>1970,5,IF(BE10>1960,6,IF(BE10>1958,7,IF(BE10>1953,8,9))))))))) -> 3 | BG10: 1.9
A11: Albemarle Corp. | B11: ALB | C11: Materials | D11: Chemicals | E11: 26 | F11: 126 | G11: N | H11: N | I11: 93.21 | J11: =(M11/I11)*100 -> 1.6521832 | K11: 0.385 | L11: 4 | M11: =K11*L11 -> 1.54 | N11: A02 | O11: 0.3675 | P11: 43902 | Q11: 43922 | R11: =(K11-O11)/O11*100 -> 4.7619048 | S11: =IF(INDEX(Historical!$D$7:$D$1254,MATCH(B11,Historical!$B$7:$B$1278,0))=0,"n/a",(INDEX(Historical!$C$7:$C$1256,MATCH(B11,Historical!$B$7:$B$1278,0))/INDEX(Historical!$D$7:$D$1254,MATCH(B11,Historical!$B$7:$B$1278,0))-1)*100) -> 8.490566 | T11: =IF(INDEX(Historical!$F$7:$F$1247,MATCH(B11,Historical!$B$7:$B$1278,0))=0,"n/a",((INDEX(Historical!$C$7:$C$1256,MATCH(B11,Historical!$B$7:$B$1278,0))/INDEX(Historical!$F$7:$F$1247,MATCH(B11,Historical!$B$7:$B$1278,0)))^(1/3)-1)*100) -> 6.0572273 | U11: =IF(INDEX(Historical!$H$7:$H$1247,MATCH(B11,Historical!$B$7:$B$1278,0))=0,"n/a",((INDEX(Historical!$C$7:$C$1256,MATCH(B11,Historical!$B$7:$B$1278,0))/INDEX(Historical!$H$7:$H$1247,MATCH(B11,Historical!$B$7:$B$1278,0)))^(1/5)-1)*100) -> 6.1821828 | V11: =IF(INDEX(Historical!$O$7:$O$1247,MATCH(B11,Historical!$B$7:$B$1278,0))=0,"n/a",((INDEX(Historical!$C$7:$C$1256,MATCH(B11,Historical!$B$7:$B$1278,0))/INDEX(Historical!$O$7:$O$1247,MATCH(B11,Historical!$B$7:$B$1278,0)))^(1/10)-1)*100) -> 11.138309 | W11: =IF(OR(U11<=0,U11="n/a",V11<=0,V11="n/a"),"n/a",U11/V11) -> 0.55503782 | X11: =IF(OR(AJ11<=0,AJ11="n/a",U11<=0,U11="n/a"),"n/a",U11/AJ11) -> 0.42931825 | Z11: =IF(OR(AC11<0.01,AC11="n/a"),"n/a",M11/AC11*100) -> 37.378641 | AA11: =IF(OR(AC11<0.01,AC11="n/a"),"n/a",I11/AC11) -> 22.623786 | AB11: 12 | AC11: 4.12 | AD11: 1.51 | AE11: 2.89 | AF11: 2.46 | AG11: 11.2 | AH11: -18.3 | AI11: 21.1 | AJ11: 14.4 | AK11: 15 | AL11: 9760 | AM11: 0.2 | AN11: 0.88 | AO11: =IF(U11="n/a","n/a",IF(AA11<0,"n/a",IF(AA11="n/a","n/a",J11+U11-AA11))) -> -14.78942 | AP11: =IF(U11="n/a","n/a",J11+U11) -> 7.8343661 | AQ11: =IF(OR(AC11<0.01,AF11="n/a"),"n/a",(I11/SQRT(22.5*AC11*(I11/AF11))-1)*100) -> 57.274727 | AR11: =INDEX(Historical!$C$7:$C$1256,MATCH(B11,Historical!$B$7:$B$1278,0))*IF(AH11="n/a",1.03,IF(AH11<0,1.01,IF(AH11>10,1.1,(1+AH11/100)))) -> 1.451875 | AS11: =IF($AI11="n/a",1.03*AR11,IF($AI11<0,1.01*AR11,IF($AI11>10,1.1*AR11,(1+$AI11/100)*AR11))) -> 1.5970625 | AT11: =IF($AK11="n/a",1.03*AS11,IF($AK11<0,1.01*AS11,IF($AK11>10,1.1*AS11,(1+$AK11/100)*AS11))) -> 1.7567688 | AU11: =IF($AK11="n/a",1.03*AT11,IF($AK11<0,1.01*AT11,IF($AK11>10,1.1*AT11,(1+$AK11/100)*AT11))) -> 1.9324456 | AV11: =IF($AK11="n/a",1.03*AU11,IF($AK11<0,1.01*AU11,IF($AK11>10,1.1*AU11,(1+$AK11/100)*AU11))) -> 2.1256902 | AW11: =SUM(AR11:AV11) -> 8.8638421 | AX11: =AW11/I11*100 -> 9.5095398 | AY11: 1.34 | AZ11: 90.65 | BA11: -7.71 | BB11: 0.04 | BC11: 16.96 | BE11: 1995 | BF11: =IF(BE11>2008,0,IF(BE11>2001,1,IF(BE11>1990,2,IF(BE11>1980,3,IF(BE11>1973,4,IF(BE11>1970,5,IF(BE11>1960,6,IF(BE11>1958,7,IF(BE11>1953,8,9))))))))) -> 2 | BG11: 4.6
A12: A.O. Smith Corp. | B12: AOS | C12: Industrials | D12: Building Products | E12: 27 | F12: 123 | G12: N | H12: N | I12: 51.69 | J12: =(M12/I12)*100 -> 2.0119946 | K12: 0.26 | L12: 4 | M12: =K12*L12 -> 1.04 | N12: B15 | O12: 0.24 | P12: 44133 | Q12: 44151 | R12: =(K12-O12)/O12*100 -> 8.3333333 | S12: =IF(INDEX(Historical!$D$7:$D$1254,MATCH(B12,Historical!$B$7:$B$1278,0))=0,"n/a",(INDEX(Historical!$C$7:$C$1256,MATCH(B12,Historical!$B$7:$B$1278,0))/INDEX(Historical!$D$7:$D$1254,MATCH(B12,Historical!$B$7:$B$1278,0))-1)*100) -> 18.421053 | T12: =IF(INDEX(Historical!$F$7:$F$1247,MATCH(B12,Historical!$B$7:$B$1278,0))=0,"n/a",((INDEX(Historical!$C$7:$C$1256,MATCH(B12,Historical!$B$7:$B$1278,0))/INDEX(Historical!$F$7:$F$1247,MATCH(B12,Historical!$B$7:$B$1278,0)))^(1/3)-1)*100) -> 23.310604 | U12: =IF(INDEX(Historical!$H$7:$H$1247,MATCH(B12,Historical!$B$7:$B$1278,0))=0,"n/a",((INDEX(Historical!$C$7:$C$1256,MATCH(B12,Historical!$B$7:$B$1278,0))/INDEX(Historical!$H$7:$H$1247,MATCH(B12,Historical!$B$7:$B$1278,0)))^(1/5)-1)*100) -> 24.573094 | V12: =IF(INDEX(Historical!$O$7:$O$1247,MATCH(B12,Historical!$B$7:$B$1278,0))=0,"n/a",((INDEX(Historical!$C$7:$C$1256,MATCH(B12,Historical!$B$7:$B$1278,0))/INDEX(Historical!$O$7:$O$1247,MATCH(B12,Historical!$B$7:$B$1278,0)))^(1/10)-1)*100) -> 21.503924 | W12: =IF(OR(U12<=0,U12="n/a",V12<=0,V12="n/a"),"n/a",U12/V12) -> 1.142726 | X12: =IF(OR(AJ12<=0,AJ12="n/a",U12<=0,U12="n/a"),"n/a",U12/AJ12) -> 1.7304996 | Z12: =IF(OR(AC12<0.01,AC12="n/a"),"n/a",M12/AC12*100) -> 57.142857 | AA12: =IF(OR(AC12<0.01,AC12="n/a"),"n/a",I12/AC12) -> 28.401099 | AB12: 12 | AC12: 1.82 | AD12: 3.55 | AE12: 3 | AF12: 5.02 | AG12: 18.1 | AH12: -14 | AI12: 22.44 | AJ12: 14.2 | AK12: 8 | AL12: 8340 | AM12: 0.3 | AN12: 0.17 | AO12: =IF(U12="n/a","n/a",IF(AA12<0,"n/a",IF(AA12="n/a","n/a",J12+U12-AA12))) -> -1.8160104 | AP12: =IF(U12="n/a","n/a",J12+U12) -> 26.585089 | AQ12: =IF(OR(AC12<0.01,AF12="n/a"),"n/a",(I12/SQRT(22.5*AC12*(I12/AF12))-1)*100) -> 151.72606 | AR12: =INDEX(Historical!$C$7:$C$1256,MATCH(B12,Historical!$B$7:$B$1278,0))*IF(AH12="n/a",1.03,IF(AH12<0,1.01,IF(AH12>10,1.1,(1+AH12/100)))) -> 0.909 | AS12: =IF($AI12="n/a",1.03*AR12,IF($AI12<0,1.01*AR12,IF($AI12>10,1.1*AR12,(1+$AI12/100)*AR12))) -> 0.9999 | AT12: =IF($AK12="n/a",1.03*AS12,IF($AK12<0,1.01*AS12,IF($AK12>10,1.1*AS12,(1+$AK12/100)*AS12))) -> 1.079892 | AU12: =IF($AK12="n/a",1.03*AT12,IF($AK12<0,1.01*AT12,IF($AK12>10,1.1*AT12,(1+$AK12/100)*AT12))) -> 1.1662834 | AV12: =IF($AK12="n/a",1.03*AU12,IF($AK12<0,1.01*AU12,IF($AK12>10,1.1*AU12,(1+$AK12/100)*AU12))) -> 1.259586 | AW12: =SUM(AR12:AV12) -> 5.4146614 | AX12: =AW12/I12*100 -> 10.475259 | AY12: 1.1 | AZ12: 52.91 | BA12: -10.96 | BB12: -1.09 | BC12: 11.6 | BE12: 1994 | BF12: =IF(BE12>2008,0,IF(BE12>2001,1,IF(BE12>1990,2,IF(BE12>1980,3,IF(BE12>1973,4,IF(BE12>1970,5,IF(BE12>1960,6,IF(BE12>1958,7,IF(BE12>1953,8,9))))))))) -> 2 | BG12: 9.9
A13: Air Products & Chem. | B13: APD | C13: Materials | D13: Chemicals | E13: 38 | F13: 70 | G13: Y | H13: Y | I13: 276.24 | J13: =(M13/I13)*100 -> 1.9403417 | K13: 1.34 | L13: 4 | M13: =K13*L13 -> 5.36 | N13: B14 | O13: 1.16 | P13: 43921 | Q13: 43961 | R13: =(K13-O13)/O13*100 -> 15.517241 | S13: =IF(INDEX(Historical!$D$7:$D$1254,MATCH(B13,Historical!$B$7:$B$1278,0))=0,"n/a",(INDEX(Historical!$C$7:$C$1256,MATCH(B13,Historical!$B$7:$B$1278,0))/INDEX(Historical!$D$7:$D$1254,MATCH(B13,Historical!$B$7:$B$1278,0))-1)*100) -> 7.7647059 | T13: =IF(INDEX(Historical!$F$7:$F$1247,MATCH(B13,Historical!$B$7:$B$1278,0))=0,"n/a",((INDEX(Historical!$C$7:$C$1256,MATCH(B13,Historical!$B$7:$B$1278,0))/INDEX(Historical!$F$7:$F$1247,MATCH(B13,Historical!$B$7:$B$1278,0)))^(1/3)-1)*100) -> 10.549112 | U13: =IF(INDEX(Historical!$H$7:$H$1247,MATCH(B13,Historical!$B$7:$B$1278,0))=0,"n/a",((INDEX(Historical!$C$7:$C$1256,MATCH(B13,Historical!$B$7:$B$1278,0))/INDEX(Historical!$H$7:$H$1247,MATCH(B13,Historical!$B$7:$B$1278,0)))^(1/5)-1)*100) -> 8.6855249 | V13: =IF(INDEX(Historical!$O$7:$O$1247,MATCH(B13,Historical!$B$7:$B$1278,0))=0,"n/a",((INDEX(Historical!$C$7:$C$1256,MATCH(B13,Historical!$B$7:$B$1278,0))/INDEX(Historical!$O$7:$O$1247,MATCH(B13,Historical!$B$7:$B$1278,0)))^(1/10)-1)*100) -> 9.8502993 | W13: =IF(OR(U13<=0,U13="n/a",V13<=0,V13="n/a"),"n/a",U13/V13) -> 0.88175238 | X13: =IF(OR(AJ13<=0,AJ13="n/a",U13<=0,U13="n/a"),"n/a",U13/AJ13) -> 0.76863052 | Z13: =IF(OR(AC13<0.01,AC13="n/a"),"n/a",M13/AC13*100) -> 62.108922 | AA13: =IF(OR(AC13<0.01,AC13="n/a"),"n/a",I13/AC13) -> 32.00927 | AB13: 9 | AC13: 8.63 | AD13: 3.1 | AE13: 6.88 | AF13: 5.24 | AG13: 16.7 | AH13: 2.9 | AI13: 17.11 | AJ13: 11.3 | AK13: 10.33 | AL13: 60660 | AM13: 0.25 | AN13: 0.7 | AO13: =IF(U13="n/a","n/a",IF(AA13<0,"n/a",IF(AA13="n/a","n/a",J13+U13-AA13))) -> -21.383403 | AP13: =IF(U13="n/a","n/a",J13+U13) -> 10.625867 | AQ13: =IF(OR(AC13<0.01,AF13="n/a"),"n/a",(I13/SQRT(22.5*AC13*(I13/AF13))-1)*100) -> 173.03119 | AR13: =INDEX(Historical!$C$7:$C$1256,MATCH(B13,Historical!$B$7:$B$1278,0))*IF(AH13="n/a",1.03,IF(AH13<0,1.01,IF(AH13>10,1.1,(1+AH13/100)))) -> 4.71282 | AS13: =IF($AI13="n/a",1.03*AR13,IF($AI13<0,1.01*AR13,IF($AI13>10,1.1*AR13,(1+$AI13/100)*AR13))) -> 5.184102 | AT13: =IF($AK13="n/a",1.03*AS13,IF($AK13<0,1.01*AS13,IF($AK13>10,1.1*AS13,(1+$AK13/100)*AS13))) -> 5.7025122 | AU13: =IF($AK13="n/a",1.03*AT13,IF($AK13<0,1.01*AT13,IF($AK13>10,1.1*AT13,(1+$AK13/100)*AT13))) -> 6.2727634 | AV13: =IF($AK13="n/a",1.03*AU13,IF($AK13<0,1.01*AU13,IF($AK13>10,1.1*AU13,(1+$AK13/100)*AU13))) -> 6.9000398 | AW13: =SUM(AR13:AV13) -> 28.772237 | AX13: =AW13/I13*100 -> 10.415667 | AY13: 0.85 | AZ13: 64.99 | BA13: -11.1 | BB13: -6.32 | BC13: 8.78 | BE13: 1983 | BF13: =IF(BE13>2008,0,IF(BE13>2001,1,IF(BE13>1990,2,IF(BE13>1980,3,IF(BE13>1973,4,IF(BE13>1970,5,IF(BE13>1960,6,IF(BE13>1958,7,IF(BE13>1953,8,9))))))))) -> 3 | BG13: 9.2
A14: Arrow Financial Corp. | B14: AROW | C14: Financials | D14: Banks | E14: 28 | F14: 107 | G14: N | H14: N | I14: 27.37 | J14: =(M14/I14)*100 -> 3.7997808 | K14: 0.26 | L14: 4 | M14: =K14*L14 -> 1.04 | N14: C15 | O14: 0.252427 | P14: 44090 | Q14: 44099 | R14: =(K14-O14)/O14*100 -> 3.0000753 | S14: =IF(INDEX(Historical!$D$7:$D$1254,MATCH(B14,Historical!$B$7:$B$1278,0))=0,"n/a",(INDEX(Historical!$C$7:$C$1256,MATCH(B14,Historical!$B$7:$B$1278,0))/INDEX(Historical!$D$7:$D$1254,MATCH(B14,Historical!$B$7:$B$1278,0))-1)*100) -> 5.004281 | T14: =IF(INDEX(Historical!$F$7:$F$1247,MATCH(B14,Historical!$B$7:$B$1278,0))=0,"n/a",((INDEX(Historical!$C$7:$C$1256,MATCH(B14,Historical!$B$7:$B$1278,0))/INDEX(Historical!$F$7:$F$1247,MATCH(B14,Historical!$B$7:$B$1278,0)))^(1/3)-1)*100) -> 4.3554186 | U14: =IF(INDEX(Historical!$H$7:$H$1247,MATCH(B14,Historical!$B$7:$B$1278,0))=0,"n/a",((INDEX(Historical!$C$7:$C$1256,MATCH(B14,Historical!$B$7:$B$1278,0))/INDEX(Historical!$H$7:$H$1247,MATCH(B14,Historical!$B$7:$B$1278,0)))^(1/5)-1)*100) -> 3.4581885 | V14: =IF(INDEX(Historical!$O$7:$O$1247,MATCH(B14,Historical!$B$7:$B$1278,0))=0,"n/a",((INDEX(Historical!$C$7:$C$1256,MATCH(B14,Historical!$B$7:$B$1278,0))/INDEX(Historical!$O$7:$O$1247,MATCH(B14,Historical!$B$7:$B$1278,0)))^(1/10)-1)*100) -> 3.3068818 | W14: =IF(OR(U14<=0,U14="n/a",V14<=0,V14="n/a"),"n/a",U14/V14) -> 1.0457551 | X14: =IF(OR(AJ14<=0,AJ14="n/a",U14<=0,U14="n/a"),"n/a",U14/AJ14) -> 0.37589006 | Y14: Adj Stock dividend | Z14: =IF(OR(AC14<0.01,AC14="n/a"),"n/a",M14/AC14*100) -> 42.276423 | AA14: =IF(OR(AC14<0.01,AC14="n/a"),"n/a",I14/AC14) -> 11.126016 | AB14: 12 | AC14: 2.46 | AD14: 1.61 | AE14: 3.75 | AF14: 1.33 | AG14: 12.1 | AH14: 2.9 | AI14: 2.71 | AJ14: 9.2 | AK14: 6.9 | AL14: 419.86 | AM14: 3 | AN14: 0.08 | AO14: =IF(U14="n/a","n/a",IF(AA14<0,"n/a",IF(AA14="n/a","n/a",J14+U14-AA14))) -> -3.8680469 | AP14: =IF(U14="n/a","n/a",J14+U14) -> 7.2579693 | AQ14: =IF(OR(AC14<0.01,AF14="n/a"),"n/a",(I14/SQRT(22.5*AC14*(I14/AF14))-1)*100) -> -18.903071 | AR14: =INDEX(Historical!$C$7:$C$1256,MATCH(B14,Historical!$B$7:$B$1278,0))*IF(AH14="n/a",1.03,IF(AH14<0,1.01,IF(AH14>10,1.1,(1+AH14/100)))) -> 1.0467827 | AS14: =IF($AI14="n/a",1.03*AR14,IF($AI14<0,1.01*AR14,IF($AI14>10,1.1*AR14,(1+$AI14/100)*AR14))) -> 1.0751505 | AT14: =IF($AK14="n/a",1.03*AS14,IF($AK14<0,1.01*AS14,IF($AK14>10,1.1*AS14,(1+$AK14/100)*AS14))) -> 1.1493359 | AU14: =IF($AK14="n/a",1.03*AT14,IF($AK14<0,1.01*AT14,IF($AK14>10,1.1*AT14,(1+$AK14/100)*AT14))) -> 1.2286401 | AV14: =IF($AK14="n/a",1.03*AU14,IF($AK14<0,1.01*AU14,IF($AK14>10,1.1*AU14,(1+$AK14/100)*AU14))) -> 1.3134163 | AW14: =SUM(AR14:AV14) -> 5.8133255 | AX14: =AW14/I14*100 -> 21.239772 | AY14: 0.68 | AZ14: 35.63 | BA14: -26.41 | BB14: 1.68 | BC14: -2.54 | BE14: 1994 | BF14: =IF(BE14>2008,0,IF(BE14>2001,1,IF(BE14>1990,2,IF(BE14>1980,3,IF(BE14>1973,4,IF(BE14>1970,5,IF(BE14>1960,6,IF(BE14>1958,7,IF(BE14>1953,8,9))))))))) -> 2 | BG14: 1.1
A15: Artesian Resources | B15: ARTNA | C15: Utilities | D15: Water Utilities | E15: 28 | F15: 108 | G15: N | H15: N | I15: 35.23 | J15: =(M15/I15)*100 -> 2.919103 | K15: 0.2571 | L15: 4 | M15: =K15*L15 -> 1.0284 | N15: B22 | O15: 0.2496 | P15: 44141 | Q15: 44155 | R15: =(K15-O15)/O15*100 -> 3.0048077 | S15: =IF(INDEX(Historical!$D$7:$D$1254,MATCH(B15,Historical!$B$7:$B$1278,0))=0,"n/a",(INDEX(Historical!$C$7:$C$1256,MATCH(B15,Historical!$B$7:$B$1278,0))/INDEX(Historical!$D$7:$D$1254,MATCH(B15,Historical!$B$7:$B$1278,0))-1)*100) -> 3.0160226 | T15: =IF(INDEX(Historical!$F$7:$F$1247,MATCH(B15,Historical!$B$7:$B$1278,0))=0,"n/a",((INDEX(Historical!$C$7:$C$1256,MATCH(B15,Historical!$B$7:$B$1278,0))/INDEX(Historical!$F$7:$F$1247,MATCH(B15,Historical!$B$7:$B$1278,0)))^(1/3)-1)*100) -> 3.0200249 | U15: =IF(INDEX(Historical!$H$7:$H$1247,MATCH(B15,Historical!$B$7:$B$1278,0))=0,"n/a",((INDEX(Historical!$C$7:$C$1256,MATCH(B15,Historical!$B$7:$B$1278,0))/INDEX(Historical!$H$7:$H$1247,MATCH(B15,Historical!$B$7:$B$1278,0)))^(1/5)-1)*100) -> 3.0157449 | V15: =IF(INDEX(Historical!$O$7:$O$1247,MATCH(B15,Historical!$B$7:$B$1278,0))=0,"n/a",((INDEX(Historical!$C$7:$C$1256,MATCH(B15,Historical!$B$7:$B$1278,0))/INDEX(Historical!$O$7:$O$1247,MATCH(B15,Historical!$B$7:$B$1278,0)))^(1/10)-1)*100) -> 3.1341472 | W15: =IF(OR(U15<=0,U15="n/a",V15<=0,V15="n/a"),"n/a",U15/V15) -> 0.96222183 | X15: =IF(OR(AJ15<=0,AJ15="n/a",U15<=0,U15="n/a"),"n/a",U15/AJ15) -> 0.35479352 | Z15: =IF(OR(AC15<0.01,AC15="n/a"),"n/a",M15/AC15*100) -> 59.445087 | AA15: =IF(OR(AC15<0.01,AC15="n/a"),"n/a",I15/AC15) -> 20.364162 | AB15: 12 | AC15: 1.73 | AD15: 5.08 | AE15: 3.88 | AF15: 2.02 | AG15: 10.1 | AH15: 1.8 | AI15: 4.17 | AJ15: 8.5 | AK15: 4 | AL15: 330.81 | AM15: 0.5 | AN15: 0.98 | AO15: =IF(U15="n/a","n/a",IF(AA15<0,"n/a",IF(AA15="n/a","n/a",J15+U15-AA15))) -> -14.429314 | AP15: =IF(U15="n/a","n/a",J15+U15) -> 5.9348479 | AQ15: =IF(OR(AC15<0.01,AF15="n/a"),"n/a",(I15/SQRT(22.5*AC15*(I15/AF15))-1)*100) -> 35.212766 | AR15: =INDEX(Historical!$C$7:$C$1256,MATCH(B15,Historical!$B$7:$B$1278,0))*IF(AH15="n/a",1.03,IF(AH15<0,1.01,IF(AH15>10,1.1,(1+AH15/100)))) -> 1.0014066 | AS15: =IF($AI15="n/a",1.03*AR15,IF($AI15<0,1.01*AR15,IF($AI15>10,1.1*AR15,(1+$AI15/100)*AR15))) -> 1.0431653 | AT15: =IF($AK15="n/a",1.03*AS15,IF($AK15<0,1.01*AS15,IF($AK15>10,1.1*AS15,(1+$AK15/100)*AS15))) -> 1.0848919 | AU15: =IF($AK15="n/a",1.03*AT15,IF($AK15<0,1.01*AT15,IF($AK15>10,1.1*AT15,(1+$AK15/100)*AT15))) -> 1.1282875 | AV15: =IF($AK15="n/a",1.03*AU15,IF($AK15<0,1.01*AU15,IF($AK15>10,1.1*AU15,(1+$AK15/100)*AU15))) -> 1.173419 | AW15: =SUM(AR15:AV15) -> 5.4311703 | AX15: =AW15/I15*100 -> 15.416322 | AY15: -0.03 | AZ15: 17.39 | BA15: -11.04 | BB15: 0.23 | BC15: -1.21 | BE15: 1993 | BF15: =IF(BE15>2008,0,IF(BE15>2001,1,IF(BE15>1990,2,IF(BE15>1980,3,IF(BE15>1973,4,IF(BE15>1970,5,IF(BE15>1960,6,IF(BE15>1958,7,IF(BE15>1953,8,9))))))))) -> 2 | BG15: 2.9
A16: Atmos Energy | B16: ATO | C16: Utilities | D16: Gas Utilities | E16: 36 | F16: 74 | G16: N | H16: N | I16: 91.67 | J16: =(M16/I16)*100 -> 2.5089997 | K16: 0.575 | L16: 4 | M16: =K16*L16 -> 2.3 | N16: C11 | O16: 0.525 | P16: 43790 | Q16: 43807 | R16: =(K16-O16)/O16*100 -> 9.5238095 | S16: =IF(INDEX(Historical!$D$7:$D$1254,MATCH(B16,Historical!$B$7:$B$1278,0))=0,"n/a",(INDEX(Historical!$C$7:$C$1256,MATCH(B16,Historical!$B$7:$B$1278,0))/INDEX(Historical!$D$7:$D$1254,MATCH(B16,Historical!$B$7:$B$1278,0))-1)*100) -> 8.5858586 | T16: =IF(INDEX(Historical!$F$7:$F$1247,MATCH(B16,Historical!$B$7:$B$1278,0))=0,"n/a",((INDEX(Historical!$C$7:$C$1256,MATCH(B16,Historical!$B$7:$B$1278,0))/INDEX(Historical!$F$7:$F$1247,MATCH(B16,Historical!$B$7:$B$1278,0)))^(1/3)-1)*100) -> 7.9313104 | U16: =IF(INDEX(Historical!$H$7:$H$1247,MATCH(B16,Historical!$B$7:$B$1278,0))=0,"n/a",((INDEX(Historical!$C$7:$C$1256,MATCH(B16,Historical!$B$7:$B$1278,0))/INDEX(Historical!$H$7:$H$1247,MATCH(B16,Historical!$B$7:$B$1278,0)))^(1/5)-1)*100) -> 7.4655932 | V16: =IF(INDEX(Historical!$O$7:$O$1247,MATCH(B16,Historical!$B$7:$B$1278,0))=0,"n/a",((INDEX(Historical!$C$7:$C$1256,MATCH(B16,Historical!$B$7:$B$1278,0))/INDEX(Historical!$O$7:$O$1247,MATCH(B16,Historical!$B$7:$B$1278,0)))^(1/10)-1)*100) -> 4.959622 | W16: =IF(OR(U16<=0,U16="n/a",V16<=0,V16="n/a"),"n/a",U16/V16) -> 1.5052746 | X16: =IF(OR(AJ16<=0,AJ16="n/a",U16<=0,U16="n/a"),"n/a",U16/AJ16) -> 0.93319915 | Z16: =IF(OR(AC16<0.01,AC16="n/a"),"n/a",M16/AC16*100) -> 47.42268 | AA16: =IF(OR(AC16<0.01,AC16="n/a"),"n/a",I16/AC16) -> 18.901031 | AB16: 9 | AC16: 4.85 | AD16: 2.61 | AE16: 4.01 | AF16: 1.75 | AG16: 11.6 | AH16: 8.8 | AI16: 6.78 | AJ16: 8 | AK16: 7.25 | AL16: 11190 | AM16: 0.5 | AN16: 0.7 | AO16: =IF(U16="n/a","n/a",IF(AA16<0,"n/a",IF(AA16="n/a","n/a",J16+U16-AA16))) -> -8.9264381 | AP16: =IF(U16="n/a","n/a",J16+U16) -> 9.9745928 | AQ16: =IF(OR(AC16<0.01,AF16="n/a"),"n/a",(I16/SQRT(22.5*AC16*(I16/AF16))-1)*100) -> 21.246863 | AR16: =INDEX(Historical!$C$7:$C$1256,MATCH(B16,Historical!$B$7:$B$1278,0))*IF(AH16="n/a",1.03,IF(AH16<0,1.01,IF(AH16>10,1.1,(1+AH16/100)))) -> 2.3392 | AS16: =IF($AI16="n/a",1.03*AR16,IF($AI16<0,1.01*AR16,IF($AI16>10,1.1*AR16,(1+$AI16/100)*AR16))) -> 2.4977978 | AT16: =IF($AK16="n/a",1.03*AS16,IF($AK16<0,1.01*AS16,IF($AK16>10,1.1*AS16,(1+$AK16/100)*AS16))) -> 2.6788881 | AU16: =IF($AK16="n/a",1.03*AT16,IF($AK16<0,1.01*AT16,IF($AK16>10,1.1*AT16,(1+$AK16/100)*AT16))) -> 2.8731075 | AV16: =IF($AK16="n/a",1.03*AU16,IF($AK16<0,1.01*AU16,IF($AK16>10,1.1*AU16,(1+$AK16/100)*AU16))) -> 3.0814078 | AW16: =SUM(AR16:AV16) -> 13.470401 | AX16: =AW16/I16*100 -> 14.694449 | AY16: 0.28 | AZ16: 17.65 | BA16: -24.29 | BB16: -4.5 | BC16: -10.35 | BE16: 1985 | BF16: =IF(BE16>2008,0,IF(BE16>2001,1,IF(BE16>1990,2,IF(BE16>1980,3,IF(BE16>1973,4,IF(BE16>1970,5,IF(BE16>1960,6,IF(BE16>1958,7,IF(BE16>1953,8,9))))))))) -> 3 | BG16: 5
A17: AptarGroup Inc. | B17: ATR | C17: Materials | D17: Containers & Packaging | E17: 26 | F17: 120 | G17: - | H17: - | I17: 114.09 | J17: =(M17/I17)*100 -> 1.2621615 | K17: 0.36 | L17: 4 | M17: =K17*L17 -> 1.44 | N17: B23 | O17: 0.34 | P17: 43585 | Q17: 43607 | R17: =(K17-O17)/O17*100 -> 5.8823529 | S17: =IF(INDEX(Historical!$D$7:$D$1254,MATCH(B17,Historical!$B$7:$B$1278,0))=0,"n/a",(INDEX(Historical!$C$7:$C$1256,MATCH(B17,Historical!$B$7:$B$1278,0))/INDEX(Historical!$D$7:$D$1254,MATCH(B17,Historical!$B$7:$B$1278,0))-1)*100) -> 7.5757576 | T17: =IF(INDEX(Historical!$F$7:$F$1247,MATCH(B17,Historical!$B$7:$B$1278,0))=0,"n/a",((INDEX(Historical!$C$7:$C$1256,MATCH(B17,Historical!$B$7:$B$1278,0))/INDEX(Historical!$F$7:$F$1247,MATCH(B17,Historical!$B$7:$B$1278,0)))^(1/3)-1)*100) -> 5.1904157 | U17: =IF(INDEX(Historical!$H$7:$H$1247,MATCH(B17,Historical!$B$7:$B$1278,0))=0,"n/a",((INDEX(Historical!$C$7:$C$1256,MATCH(B17,Historical!$B$7:$B$1278,0))/INDEX(Historical!$H$7:$H$1247,MATCH(B17,Historical!$B$7:$B$1278,0)))^(1/5)-1)*100) -> 5.4319816 | V17: =IF(INDEX(Historical!$O$7:$O$1247,MATCH(B17,Historical!$B$7:$B$1278,0))=0,"n/a",((INDEX(Historical!$C$7:$C$1256,MATCH(B17,Historical!$B$7:$B$1278,0))/INDEX(Historical!$O$7:$O$1247,MATCH(B17,Historical!$B$7:$B$1278,0)))^(1/10)-1)*100) -> 8.9967904 | W17: =IF(OR(U17<=0,U17="n/a",V17<=0,V17="n/a"),"n/a",U17/V17) -> 0.60376883 | X17: =IF(OR(AJ17<=0,AJ17="n/a",U17<=0,U17="n/a"),"n/a",U17/AJ17) -> 1.0446119 | Z17: =IF(OR(AC17<0.01,AC17="n/a"),"n/a",M17/AC17*100) -> 47.213115 | AA17: =IF(OR(AC17<0.01,AC17="n/a"),"n/a",I17/AC17) -> 37.406557 | AB17: 12 | AC17: 3.05 | AD17: 7.54 | AE17: 2.63 | AF17: 4.45 | AG17: 12.7 | AH17: 25.6 | AI17: 18.57 | AJ17: 5.2 | AK17: 4.96 | AL17: 7350 | AM17: 0.3 | AN17: 0.79 | AO17: =IF(U17="n/a","n/a",IF(AA17<0,"n/a",IF(AA17="n/a","n/a",J17+U17-AA17))) -> -30.712414 | AP17: =IF(U17="n/a","n/a",J17+U17) -> 6.6941431 | AQ17: =IF(OR(AC17<0.01,AF17="n/a"),"n/a",(I17/SQRT(22.5*AC17*(I17/AF17))-1)*100) -> 171.99606 | AR17: =INDEX(Historical!$C$7:$C$1256,MATCH(B17,Historical!$B$7:$B$1278,0))*IF(AH17="n/a",1.03,IF(AH17<0,1.01,IF(AH17>10,1.1,(1+AH17/100)))) -> 1.562 | AS17: =IF($AI17="n/a",1.03*AR17,IF($AI17<0,1.01*AR17,IF($AI17>10,1.1*AR17,(1+$AI17/100)*AR17))) -> 1.7182 | AT17: =IF($AK17="n/a",1.03*AS17,IF($AK17<0,1.01*AS17,IF($AK17>10,1.1*AS17,(1+$AK17/100)*AS17))) -> 1.8034227 | AU17: =IF($AK17="n/a",1.03*AT17,IF($AK17<0,1.01*AT17,IF($AK17>10,1.1*AT17,(1+$AK17/100)*AT17))) -> 1.8928725 | AV17: =IF($AK17="n/a",1.03*AU17,IF($AK17<0,1.01*AU17,IF($AK17>10,1.1*AU17,(1+$AK17/100)*AU17))) -> 1.986759 | AW17: =SUM(AR17:AV17) -> 8.9632542 | AX17: =AW17/I17*100 -> 7.8563013 | AY17: 0.59 | AZ17: 42.9 | BA17: -6.82 | BB17: -1.97 | BC17: 2.79 | BE17: 1994 | BF17: =IF(BE17>2008,0,IF(BE17>2001,1,IF(BE17>1990,2,IF(BE17>1980,3,IF(BE17>1973,4,IF(BE17>1970,5,IF(BE17>1960,6,IF(BE17>1958,7,IF(BE17>1953,8,9))))))))) -> 2 | BG17: 5.5
A18: American States Water | B18: AWR | C18: Utilities | D18: Water Utilities | E18: 66 | F18: 1 | G18: N | H18: N | I18: 74.69 | J18: =(M18/I18)*100 -> 1.7940822 | K18: 0.335 | L18: 4 | M18: =K18*L18 -> 1.34 | N18: C01 | O18: 0.305 | P18: 44057 | Q18: 44075 | R18: =(K18-O18)/O18*100 -> 9.8360656 | S18: =IF(INDEX(Historical!$D$7:$D$1254,MATCH(B18,Historical!$B$7:$B$1278,0))=0,"n/a",(INDEX(Historical!$C$7:$C$1256,MATCH(B18,Historical!$B$7:$B$1278,0))/INDEX(Historical!$D$7:$D$1254,MATCH(B18,Historical!$B$7:$B$1278,0))-1)*100) -> 9.4339623 | T18: =IF(INDEX(Historical!$F$7:$F$1247,MATCH(B18,Historical!$B$7:$B$1278,0))=0,"n/a",((INDEX(Historical!$C$7:$C$1256,MATCH(B18,Historical!$B$7:$B$1278,0))/INDEX(Historical!$F$7:$F$1247,MATCH(B18,Historical!$B$7:$B$1278,0)))^(1/3)-1)*100) -> 8.2689515 | U18: =IF(INDEX(Historical!$H$7:$H$1247,MATCH(B18,Historical!$B$7:$B$1278,0))=0,"n/a",((INDEX(Historical!$C$7:$C$1256,MATCH(B18,Historical!$B$7:$B$1278,0))/INDEX(Historical!$H$7:$H$1247,MATCH(B18,Historical!$B$7:$B$1278,0)))^(1/5)-1)*100) -> 6.9241926 | V18: =IF(INDEX(Historical!$O$7:$O$1247,MATCH(B18,Historical!$B$7:$B$1278,0))=0,"n/a",((INDEX(Historical!$C$7:$C$1256,MATCH(B18,Historical!$B$7:$B$1278,0))/INDEX(Historical!$O$7:$O$1247,MATCH(B18,Historical!$B$7:$B$1278,0)))^(1/10)-1)*100) -> 8.6717501 | W18: =IF(OR(U18<=0,U18="n/a",V18<=0,V18="n/a"),"n/a",U18/V18) -> 0.79847695 | X18: =IF(OR(AJ18<=0,AJ18="n/a",U18<=0,U18="n/a"),"n/a",U18/AJ18) -> 0.887717 | Z18: =IF(OR(AC18<0.01,AC18="n/a"),"n/a",M18/AC18*100) -> 58.77193 | AA18: =IF(OR(AC18<0.01,AC18="n/a"),"n/a",I18/AC18) -> 32.758772 | AB18: 12 | AC18: 2.28 | AD18: 6.18 | AE18: 5.66 | AF18: 4.45 | AG18: 13.9 | AH18: 32.6 | AI18: 5.64 | AJ18: 7.8 | AK18: 5.3 | AL18: 2700 | AM18: 0.4 | AN18: 0.86 | AO18: =IF(U18="n/a","n/a",IF(AA18<0,"n/a",IF(AA18="n/a","n/a",J18+U18-AA18))) -> -24.040497 | AP18: =IF(U18="n/a","n/a",J18+U18) -> 8.7182748 | AQ18: =IF(OR(AC18<0.01,AF18="n/a"),"n/a",(I18/SQRT(22.5*AC18*(I18/AF18))-1)*100) -> 154.53796 | AR18: =INDEX(Historical!$C$7:$C$1256,MATCH(B18,Historical!$B$7:$B$1278,0))*IF(AH18="n/a",1.03,IF(AH18<0,1.01,IF(AH18>10,1.1,(1+AH18/100)))) -> 1.276 | AS18: =IF($AI18="n/a",1.03*AR18,IF($AI18<0,1.01*AR18,IF($AI18>10,1.1*AR18,(1+$AI18/100)*AR18))) -> 1.3479664 | AT18: =IF($AK18="n/a",1.03*AS18,IF($AK18<0,1.01*AS18,IF($AK18>10,1.1*AS18,(1+$AK18/100)*AS18))) -> 1.4194086 | AU18: =IF($AK18="n/a",1.03*AT18,IF($AK18<0,1.01*AT18,IF($AK18>10,1.1*AT18,(1+$AK18/100)*AT18))) -> 1.4946373 | AV18: =IF($AK18="n/a",1.03*AU18,IF($AK18<0,1.01*AU18,IF($AK18>10,1.1*AU18,(1+$AK18/100)*AU18))) -> 1.5738531 | AW18: =SUM(AR18:AV18) -> 7.1118653 | AX18: =AW18/I18*100 -> 9.5218441 | AY18: -0.07 | AZ18: 14.71 | BA18: -22.71 | BB18: -1.47 | BC18: -6.79 | BE18: 1955 | BF18: =IF(BE18>2008,0,IF(BE18>2001,1,IF(BE18>1990,2,IF(BE18>1980,3,IF(BE18>1973,4,IF(BE18>1970,5,IF(BE18>1960,6,IF(BE18>1958,7,IF(BE18>1953,8,9))))))))) -> 8 | BG18: 5.1
A19: BancFirst Corp. OK | B19: BANF | C19: Financials | D19: Banks | E19: 27 | F19: 117 | G19: - | H19: - | I19: 44.45 | J19: =(M19/I19)*100 -> 3.0596175 | K19: 0.34 | L19: 4 | M19: =K19*L19 -> 1.36 | N19: A13 | O19: 0.32 | P19: 44103 | Q19: 44119 | R19: =(K19-O19)/O19*100 -> 6.25 | S19: =IF(INDEX(Historical!$D$7:$D$1254,MATCH(B19,Historical!$B$7:$B$1278,0))=0,"n/a",(INDEX(Historical!$C$7:$C$1256,MATCH(B19,Historical!$B$7:$B$1278,0))/INDEX(Historical!$D$7:$D$1254,MATCH(B19,Historical!$B$7:$B$1278,0))-1)*100) -> 31.182796 | T19: =IF(INDEX(Historical!$F$7:$F$1247,MATCH(B19,Historical!$B$7:$B$1278,0))=0,"n/a",((INDEX(Historical!$C$7:$C$1256,MATCH(B19,Historical!$B$7:$B$1278,0))/INDEX(Historical!$F$7:$F$1247,MATCH(B19,Historical!$B$7:$B$1278,0)))^(1/3)-1)*100) -> 18.671288 | U19: =IF(INDEX(Historical!$H$7:$H$1247,MATCH(B19,Historical!$B$7:$B$1278,0))=0,"n/a",((INDEX(Historical!$C$7:$C$1256,MATCH(B19,Historical!$B$7:$B$1278,0))/INDEX(Historical!$H$7:$H$1247,MATCH(B19,Historical!$B$7:$B$1278,0)))^(1/5)-1)*100) -> 13.950759 | V19: =IF(INDEX(Historical!$O$7:$O$1247,MATCH(B19,Historical!$B$7:$B$1278,0))=0,"n/a",((INDEX(Historical!$C$7:$C$1256,MATCH(B19,Historical!$B$7:$B$1278,0))/INDEX(Historical!$O$7:$O$1247,MATCH(B19,Historical!$B$7:$B$1278,0)))^(1/10)-1)*100) -> 10.611424 | W19: =IF(OR(U19<=0,U19="n/a",V19<=0,V19="n/a"),"n/a",U19/V19) -> 1.3146925 | X19: =IF(OR(AJ19<=0,AJ19="n/a",U19<=0,U19="n/a"),"n/a",U19/AJ19) -> 0.93629253 | Z19: =IF(OR(AC19<0.01,AC19="n/a"),"n/a",M19/AC19*100) -> 45.333333 | AA19: =IF(OR(AC19<0.01,AC19="n/a"),"n/a",I19/AC19) -> 14.816667 | AB19: 12 | AC19: 3 | AD19: 2.12 | AE19: 4.52 | AF19: 1.4 | AG19: 12.4 | AH19: 7.5 | AI19: 23.56 | AJ19: 14.9 | AK19: 7 | AL19: 1480 | AM19: 0.1 | AN19: 0.03 | AO19: =IF(U19="n/a","n/a",IF(AA19<0,"n/a",IF(AA19="n/a","n/a",J19+U19-AA19))) -> 2.1937096 | AP19: =IF(U19="n/a","n/a",J19+U19) -> 17.010376 | AQ19: =IF(OR(AC19<0.01,AF19="n/a"),"n/a",(I19/SQRT(22.5*AC19*(I19/AF19))-1)*100) -> -3.9830262 | AR19: =INDEX(Historical!$C$7:$C$1256,MATCH(B19,Historical!$B$7:$B$1278,0))*IF(AH19="n/a",1.03,IF(AH19<0,1.01,IF(AH19>10,1.1,(1+AH19/100)))) -> 1.3115 | AS19: =IF($AI19="n/a",1.03*AR19,IF($AI19<0,1.01*AR19,IF($AI19>10,1.1*AR19,(1+$AI19/100)*AR19))) -> 1.44265 | AT19: =IF($AK19="n/a",1.03*AS19,IF($AK19<0,1.01*AS19,IF($AK19>10,1.1*AS19,(1+$AK19/100)*AS19))) -> 1.5436355 | AU19: =IF($AK19="n/a",1.03*AT19,IF($AK19<0,1.01*AT19,IF($AK19>10,1.1*AT19,(1+$AK19/100)*AT19))) -> 1.65169 | AV19: =IF($AK19="n/a",1.03*AU19,IF($AK19<0,1.01*AU19,IF($AK19>10,1.1*AU19,(1+$AK19/100)*AU19))) -> 1.7673083 | AW19: =SUM(AR19:AV19) -> 7.7167838 | AX19: =AW19/I19*100 -> 17.360593 | AY19: 1.41 | AZ19: 70.96 | BA19: -30.5 | BB19: 1.67 | BC19: 4.01 | BE19: 1994 | BF19: =IF(BE19>2008,0,IF(BE19>2001,1,IF(BE19>1990,2,IF(BE19>1980,3,IF(BE19>1973,4,IF(BE19>1970,5,IF(BE19>1960,6,IF(BE19>1958,7,IF(BE19>1953,8,9))))))))) -> 2 | BG19: 1.4
A20: Becton Dickinson & Co. | B20: BDX | C20: Health Care | D20: Health Care Equipment & Supplies | E20: 48 | F20: 39 | G20: N | H20: N | I20: 231.13 | J20: =(M20/I20)*100 -> 1.367196 | K20: 0.79 | L20: 4 | M20: =K20*L20 -> 3.16 | N20: C29 | O20: 0.77 | P20: 43807 | Q20: 43830 | R20: =(K20-O20)/O20*100 -> 2.5974026 | S20: =IF(INDEX(Historical!$D$7:$D$1254,MATCH(B20,Historical!$B$7:$B$1278,0))=0,"n/a",(INDEX(Historical!$C$7:$C$1256,MATCH(B20,Historical!$B$7:$B$1278,0))/INDEX(Historical!$D$7:$D$1254,MATCH(B20,Historical!$B$7:$B$1278,0))-1)*100) -> 2.6490066 | T20: =IF(INDEX(Historical!$F$7:$F$1247,MATCH(B20,Historical!$B$7:$B$1278,0))=0,"n/a",((INDEX(Historical!$C$7:$C$1256,MATCH(B20,Historical!$B$7:$B$1278,0))/INDEX(Historical!$F$7:$F$1247,MATCH(B20,Historical!$B$7:$B$1278,0)))^(1/3)-1)*100) -> 4.5837318 | U20: =IF(INDEX(Historical!$H$7:$H$1247,MATCH(B20,Historical!$B$7:$B$1278,0))=0,"n/a",((INDEX(Historical!$C$7:$C$1256,MATCH(B20,Historical!$B$7:$B$1278,0))/INDEX(Historical!$H$7:$H$1247,MATCH(B20,Historical!$B$7:$B$1278,0)))^(1/5)-1)*100) -> 6.7620325 | V20: =IF(INDEX(Historical!$O$7:$O$1247,MATCH(B20,Historical!$B$7:$B$1278,0))=0,"n/a",((INDEX(Historical!$C$7:$C$1256,MATCH(B20,Historical!$B$7:$B$1278,0))/INDEX(Historical!$O$7:$O$1247,MATCH(B20,Historical!$B$7:$B$1278,0)))^(1/10)-1)*100) -> 8.9127631 | W20: =IF(OR(U20<=0,U20="n/a",V20<=0,V20="n/a"),"n/a",U20/V20) -> 0.75869093 | X20: =IF(OR(AJ20<=0,AJ20="n/a",U20<=0,U20="n/a"),"n/a",U20/AJ20) -> n/a | Y20: FY Streak | Z20: =IF(OR(AC20<0.01,AC20="n/a"),"n/a",M20/AC20*100) -> 111.26761 | AA20: =IF(OR(AC20<0.01,AC20="n/a"),"n/a",I20/AC20) -> 81.383803 | AB20: 9 | AC20: 2.84 | AD20: 12.72 | AE20: 3.97 | AF20: 2.72 | AG20: 3.6 | AH20: 24.4 | AI20: 26.25 | AJ20: -8.9 | AK20: 6.4 | AL20: 67220 | AM20: 0.1 | AN20: 0.78 | AO20: =IF(U20="n/a","n/a",IF(AA20<0,"n/a",IF(AA20="n/a","n/a",J20+U20-AA20))) -> -73.254574 | AP20: =IF(U20="n/a","n/a",J20+U20) -> 8.1292285 | AQ20: =IF(OR(AC20<0.01,AF20="n/a"),"n/a",(I20/SQRT(22.5*AC20*(I20/AF20))-1)*100) -> 213.6622 | AR20: =INDEX(Historical!$C$7:$C$1256,MATCH(B20,Historical!$B$7:$B$1278,0))*IF(AH20="n/a",1.03,IF(AH20<0,1.01,IF(AH20>10,1.1,(1+AH20/100)))) -> 3.41 | AS20: =IF($AI20="n/a",1.03*AR20,IF($AI20<0,1.01*AR20,IF($AI20>10,1.1*AR20,(1+$AI20/100)*AR20))) -> 3.751 | AT20: =IF($AK20="n/a",1.03*AS20,IF($AK20<0,1.01*AS20,IF($AK20>10,1.1*AS20,(1+$AK20/100)*AS20))) -> 3.991064 | AU20: =IF($AK20="n/a",1.03*AT20,IF($AK20<0,1.01*AT20,IF($AK20>10,1.1*AT20,(1+$AK20/100)*AT20))) -> 4.2464921 | AV20: =IF($AK20="n/a",1.03*AU20,IF($AK20<0,1.01*AU20,IF($AK20>10,1.1*AU20,(1+$AK20/100)*AU20))) -> 4.5182676 | AW20: =SUM(AR20:AV20) -> 19.916824 | AX20: =AW20/I20*100 -> 8.6171521 | AY20: 0.85 | AZ20: 16.88 | BA20: -19.39 | BB20: -2.37 | BC20: -6.82 | BE20: 1973 | BF20: =IF(BE20>2008,0,IF(BE20>2001,1,IF(BE20>1990,2,IF(BE20>1980,3,IF(BE20>1973,4,IF(BE20>1970,5,IF(BE20>1960,6,IF(BE20>1958,7,IF(BE20>1953,8,9))))))))) -> 5 | BG20: 1.5
A21: Franklin Resources | B21: BEN | C21: Financials | D21: Capital Markets | E21: 40 | F21: 64 | G21: N | H21: Y | I21: 18.75 | J21: =(M21/I21)*100 -> 5.76 | K21: 0.27 | L21: 4 | M21: =K21*L21 -> 1.08 | N21: A10 | O21: 0.26 | P21: 43828 | Q21: 43839 | R21: =(K21-O21)/O21*100 -> 3.8461538 | S21: =IF(INDEX(Historical!$D$7:$D$1254,MATCH(B21,Historical!$B$7:$B$1278,0))=0,"n/a",(INDEX(Historical!$C$7:$C$1256,MATCH(B21,Historical!$B$7:$B$1278,0))/INDEX(Historical!$D$7:$D$1254,MATCH(B21,Historical!$B$7:$B$1278,0))-1)*100) -> 13.043478 | T21: =IF(INDEX(Historical!$F$7:$F$1247,MATCH(B21,Historical!$B$7:$B$1278,0))=0,"n/a",((INDEX(Historical!$C$7:$C$1256,MATCH(B21,Historical!$B$7:$B$1278,0))/INDEX(Historical!$F$7:$F$1247,MATCH(B21,Historical!$B$7:$B$1278,0)))^(1/3)-1)*100) -> 13.040381 | U21: =IF(INDEX(Historical!$H$7:$H$1247,MATCH(B21,Historical!$B$7:$B$1278,0))=0,"n/a",((INDEX(Historical!$C$7:$C$1256,MATCH(B21,Historical!$B$7:$B$1278,0))/INDEX(Historical!$H$7:$H$1247,MATCH(B21,Historical!$B$7:$B$1278,0)))^(1/5)-1)*100) -> 16.723532 | V21: =IF(INDEX(Historical!$O$7:$O$1247,MATCH(B21,Historical!$B$7:$B$1278,0))=0,"n/a",((INDEX(Historical!$C$7:$C$1256,MATCH(B21,Historical!$B$7:$B$1278,0))/INDEX(Historical!$O$7:$O$1247,MATCH(B21,Historical!$B$7:$B$1278,0)))^(1/10)-1)*100) -> 14.021705 | W21: =IF(OR(U21<=0,U21="n/a",V21<=0,V21="n/a"),"n/a",U21/V21) -> 1.1926889 | X21: =IF(OR(AJ21<=0,AJ21="n/a",U21<=0,U21="n/a"),"n/a",U21/AJ21) -> n/a | Z21: =IF(OR(AC21<0.01,AC21="n/a"),"n/a",M21/AC21*100) -> 52.682927 | AA21: =IF(OR(AC21<0.01,AC21="n/a"),"n/a",I21/AC21) -> 9.1463415 | AB21: 9 | AC21: 2.05 | AD21: n/a | AE21: 1.72 | AF21: 0.91 | AG21: 10.1 | AH21: -26.3 | AI21: 8.86 | AJ21: -9.1 | AK21: -5.29 | AL21: 9270 | AM21: 0.1 | AN21: 0.14 | AO21: =IF(U21="n/a","n/a",IF(AA21<0,"n/a",IF(AA21="n/a","n/a",J21+U21-AA21))) -> 13.33719 | AP21: =IF(U21="n/a","n/a",J21+U21) -> 22.483532 | AQ21: =IF(OR(AC21<0.01,AF21="n/a"),"n/a",(I21/SQRT(22.5*AC21*(I21/AF21))-1)*100) -> -39.179058 | AR21: =INDEX(Historical!$C$7:$C$1256,MATCH(B21,Historical!$B$7:$B$1278,0))*IF(AH21="n/a",1.03,IF(AH21<0,1.01,IF(AH21>10,1.1,(1+AH21/100)))) -> 1.0504 | AS21: =IF($AI21="n/a",1.03*AR21,IF($AI21<0,1.01*AR21,IF($AI21>10,1.1*AR21,(1+$AI21/100)*AR21))) -> 1.1434654 | AT21: =IF($AK21="n/a",1.03*AS21,IF($AK21<0,1.01*AS21,IF($AK21>10,1.1*AS21,(1+$AK21/100)*AS21))) -> 1.1549001 | AU21: =IF($AK21="n/a",1.03*AT21,IF($AK21<0,1.01*AT21,IF($AK21>10,1.1*AT21,(1+$AK21/100)*AT21))) -> 1.1664491 | AV21: =IF($AK21="n/a",1.03*AU21,IF($AK21<0,1.01*AU21,IF($AK21>10,1.1*AU21,(1+$AK21/100)*AU21))) -> 1.1781136 | AW21: =SUM(AR21:AV21) -> 5.6933282 | AX21: =AW21/I21*100 -> 30.364417 | AY21: 1.21 | AZ21: 25.75 | BA21: -35.94 | BB21: -11.65 | BC21: -9.93 | BE21: 1981 | BF21: =IF(BE21>2008,0,IF(BE21>2001,1,IF(BE21>1990,2,IF(BE21>1980,3,IF(BE21>1973,4,IF(BE21>1970,5,IF(BE21>1960,6,IF(BE21>1958,7,IF(BE21>1953,8,9))))))))) -> 3 | BG21: 6.8
A22: Brown-Forman Class B | B22: BF-B | C22: Consumer Staples | D22: Beverages | E22: 36 | F22: 75 | G22: Y | H22: Y | I22: 69.71 | J22: =(M22/I22)*100 -> 1.0001435 | K22: 0.1743 | L22: 4 | M22: =K22*L22 -> 0.6972 | N22: A02 | O22: 0.166 | P22: 43802 | Q22: 43831 | R22: =(K22-O22)/O22*100 -> 5 | S22: =IF(INDEX(Historical!$D$7:$D$1254,MATCH(B22,Historical!$B$7:$B$1278,0))=0,"n/a",(INDEX(Historical!$C$7:$C$1256,MATCH(B22,Historical!$B$7:$B$1278,0))/INDEX(Historical!$D$7:$D$1254,MATCH(B22,Historical!$B$7:$B$1278,0))-1)*100) -> 5.0632911 | T22: =IF(INDEX(Historical!$F$7:$F$1247,MATCH(B22,Historical!$B$7:$B$1278,0))=0,"n/a",((INDEX(Historical!$C$7:$C$1256,MATCH(B22,Historical!$B$7:$B$1278,0))/INDEX(Historical!$F$7:$F$1247,MATCH(B22,Historical!$B$7:$B$1278,0)))^(1/3)-1)*100) -> 6.8701437 | U22: =IF(INDEX(Historical!$H$7:$H$1247,MATCH(B22,Historical!$B$7:$B$1278,0))=0,"n/a",((INDEX(Historical!$C$7:$C$1256,MATCH(B22,Historical!$B$7:$B$1278,0))/INDEX(Historical!$H$7:$H$1247,MATCH(B22,Historical!$B$7:$B$1278,0)))^(1/5)-1)*100) -> 7.0644317 | V22: =IF(INDEX(Historical!$O$7:$O$1247,MATCH(B22,Historical!$B$7:$B$1278,0))=0,"n/a",((INDEX(Historical!$C$7:$C$1256,MATCH(B22,Historical!$B$7:$B$1278,0))/INDEX(Historical!$O$7:$O$1247,MATCH(B22,Historical!$B$7:$B$1278,0)))^(1/10)-1)*100) -> 8.0314364 | W22: =IF(OR(U22<=0,U22="n/a",V22<=0,V22="n/a"),"n/a",U22/V22) -> 0.87959754 | X22: =IF(OR(AJ22<=0,AJ22="n/a",U22<=0,U22="n/a"),"n/a",U22/AJ22) -> 1.1774053 | Z22: =IF(OR(AC22<0.01,AC22="n/a"),"n/a",M22/AC22*100) -> 34.686567 | AA22: =IF(OR(AC22<0.01,AC22="n/a"),"n/a",I22/AC22) -> 34.681592 | AB22: 4 | AC22: 2.01 | AD22: 5.07 | AE22: 9.71 | AF22: 15.53 | AG22: 47.8 | AH22: 15.9 | AI22: -0.99 | AJ22: 6 | AK22: 6.85 | AL22: 32520 | AM22: 0.4 | AN22: 1.26 | AO22: =IF(U22="n/a","n/a",IF(AA22<0,"n/a",IF(AA22="n/a","n/a",J22+U22-AA22))) -> -26.617017 | AP22: =IF(U22="n/a","n/a",J22+U22) -> 8.0645752 | AQ22: =IF(OR(AC22<0.01,AF22="n/a"),"n/a",(I22/SQRT(22.5*AC22*(I22/AF22))-1)*100) -> 389.26481 | AR22: =INDEX(Historical!$C$7:$C$1256,MATCH(B22,Historical!$B$7:$B$1278,0))*IF(AH22="n/a",1.03,IF(AH22<0,1.01,IF(AH22>10,1.1,(1+AH22/100)))) -> 0.7304 | AS22: =IF($AI22="n/a",1.03*AR22,IF($AI22<0,1.01*AR22,IF($AI22>10,1.1*AR22,(1+$AI22/100)*AR22))) -> 0.737704 | AT22: =IF($AK22="n/a",1.03*AS22,IF($AK22<0,1.01*AS22,IF($AK22>10,1.1*AS22,(1+$AK22/100)*AS22))) -> 0.78823672 | AU22: =IF($AK22="n/a",1.03*AT22,IF($AK22<0,1.01*AT22,IF($AK22>10,1.1*AT22,(1+$AK22/100)*AT22))) -> 0.84223094 | AV22: =IF($AK22="n/a",1.03*AU22,IF($AK22<0,1.01*AU22,IF($AK22>10,1.1*AU22,(1+$AK22/100)*AU22))) -> 0.89992376 | AW22: =SUM(AR22:AV22) -> 3.9984954 | AX22: =AW22/I22*100 -> 5.7358993 | AY22: 0.7 | AZ22: 56.02 | BA22: -16.41 | BB22: -7.97 | BC22: 3.35 | BE22: 1985 | BF22: =IF(BE22>2008,0,IF(BE22>2001,1,IF(BE22>1990,2,IF(BE22>1980,3,IF(BE22>1973,4,IF(BE22>1970,5,IF(BE22>1960,6,IF(BE22>1958,7,IF(BE22>1953,8,9))))))))) -> 3 | BG22: 16.8
A23: Black Hills Corp. | B23: BKH | C23: Utilities | D23: Multi-Utilities | E23: 50 | F23: 31 | G23: N | H23: N | I23: 56.66 | J23: =(M23/I23)*100 -> 3.9887046 | K23: 0.565 | L23: 4 | M23: =K23*L23 -> 2.26 | N23: C01 | O23: 0.535 | P23: 44151 | Q23: 44166 | R23: =(K23-O23)/O23*100 -> 5.6074766 | S23: =IF(INDEX(Historical!$D$7:$D$1254,MATCH(B23,Historical!$B$7:$B$1278,0))=0,"n/a",(INDEX(Historical!$C$7:$C$1256,MATCH(B23,Historical!$B$7:$B$1278,0))/INDEX(Historical!$D$7:$D$1254,MATCH(B23,Historical!$B$7:$B$1278,0))-1)*100) -> 6.2176166 | T23: =IF(INDEX(Historical!$F$7:$F$1247,MATCH(B23,Historical!$B$7:$B$1278,0))=0,"n/a",((INDEX(Historical!$C$7:$C$1256,MATCH(B23,Historical!$B$7:$B$1278,0))/INDEX(Historical!$F$7:$F$1247,MATCH(B23,Historical!$B$7:$B$1278,0)))^(1/3)-1)*100) -> 6.8599237 | U23: =IF(INDEX(Historical!$H$7:$H$1247,MATCH(B23,Historical!$B$7:$B$1278,0))=0,"n/a",((INDEX(Historical!$C$7:$C$1256,MATCH(B23,Historical!$B$7:$B$1278,0))/INDEX(Historical!$H$7:$H$1247,MATCH(B23,Historical!$B$7:$B$1278,0)))^(1/5)-1)*100) -> 5.6150606 | V23: =IF(INDEX(Historical!$O$7:$O$1247,MATCH(B23,Historical!$B$7:$B$1278,0))=0,"n/a",((INDEX(Historical!$C$7:$C$1256,MATCH(B23,Historical!$B$7:$B$1278,0))/INDEX(Historical!$O$7:$O$1247,MATCH(B23,Historical!$B$7:$B$1278,0)))^(1/10)-1)*100) -> 3.7400736 | W23: =IF(OR(U23<=0,U23="n/a",V23<=0,V23="n/a"),"n/a",U23/V23) -> 1.5013236 | X23: =IF(OR(AJ23<=0,AJ23="n/a",U23<=0,U23="n/a"),"n/a",U23/AJ23) -> 2.5523003 | Z23: =IF(OR(AC23<0.01,AC23="n/a"),"n/a",M23/AC23*100) -> 71.518987 | AA23: =IF(OR(AC23<0.01,AC23="n/a"),"n/a",I23/AC23) -> 17.93038 | AB23: 12 | AC23: 3.16 | AD23: 3.83 | AE23: 2.12 | AF23: 1.41 | AG23: 8 | AH23: -31.4 | AI23: 8.05 | AJ23: 2.2 | AK23: 4.69 | AL23: 3540 | AM23: 0.4 | AN23: 1.41 | AO23: =IF(U23="n/a","n/a",IF(AA23<0,"n/a",IF(AA23="n/a","n/a",J23+U23-AA23))) -> -8.3266146 | AP23: =IF(U23="n/a","n/a",J23+U23) -> 9.6037651 | AQ23: =IF(OR(AC23<0.01,AF23="n/a"),"n/a",(I23/SQRT(22.5*AC23*(I23/AF23))-1)*100) -> 6.0017514 | AR23: =INDEX(Historical!$C$7:$C$1256,MATCH(B23,Historical!$B$7:$B$1278,0))*IF(AH23="n/a",1.03,IF(AH23<0,1.01,IF(AH23>10,1.1,(1+AH23/100)))) -> 2.0705 | AS23: =IF($AI23="n/a",1.03*AR23,IF($AI23<0,1.01*AR23,IF($AI23>10,1.1*AR23,(1+$AI23/100)*AR23))) -> 2.2371752 | AT23: =IF($AK23="n/a",1.03*AS23,IF($AK23<0,1.01*AS23,IF($AK23>10,1.1*AS23,(1+$AK23/100)*AS23))) -> 2.3420988 | AU23: =IF($AK23="n/a",1.03*AT23,IF($AK23<0,1.01*AT23,IF($AK23>10,1.1*AT23,(1+$AK23/100)*AT23))) -> 2.4519432 | AV23: =IF($AK23="n/a",1.03*AU23,IF($AK23<0,1.01*AU23,IF($AK23>10,1.1*AU23,(1+$AK23/100)*AU23))) -> 2.5669393 | AW23: =SUM(AR23:AV23) -> 11.668657 | AX23: =AW23/I23*100 -> 20.59417 | AY23: 0.25 | AZ23: 17.87 | BA23: -34.96 | BB23: 1.21 | BC23: -9.99 | BE23: 1972 | BF23: =IF(BE23>2008,0,IF(BE23>2001,1,IF(BE23>1990,2,IF(BE23>1980,3,IF(BE23>1973,4,IF(BE23>1970,5,IF(BE23>1960,6,IF(BE23>1958,7,IF(BE23>1953,8,9))))))))) -> 5 | BG23: 2.6
A24: Badger Meter Inc. | B24: BMI | C24: Information Technology | D24: Electronic Equipment, Instruments & Components | E24: 28 | F24: 106 | G24: N | H24: Y | I24: 73.34 | J24: =(M24/I24)*100 -> 0.98172893 | K24: 0.18 | L24: 4 | M24: =K24*L24 -> 0.72 | N24: C15 | O24: 0.17 | P24: 44070 | Q24: 44085 | R24: =(K24-O24)/O24*100 -> 5.8823529 | S24: =IF(INDEX(Historical!$D$7:$D$1254,MATCH(B24,Historical!$B$7:$B$1278,0))=0,"n/a",(INDEX(Historical!$C$7:$C$1256,MATCH(B24,Historical!$B$7:$B$1278,0))/INDEX(Historical!$D$7:$D$1254,MATCH(B24,Historical!$B$7:$B$1278,0))-1)*100) -> 14.285714 | T24: =IF(INDEX(Historical!$F$7:$F$1247,MATCH(B24,Historical!$B$7:$B$1278,0))=0,"n/a",((INDEX(Historical!$C$7:$C$1256,MATCH(B24,Historical!$B$7:$B$1278,0))/INDEX(Historical!$F$7:$F$1247,MATCH(B24,Historical!$B$7:$B$1278,0)))^(1/3)-1)*100) -> 14.174865 | U24: =IF(INDEX(Historical!$H$7:$H$1247,MATCH(B24,Historical!$B$7:$B$1278,0))=0,"n/a",((INDEX(Historical!$C$7:$C$1256,MATCH(B24,Historical!$B$7:$B$1278,0))/INDEX(Historical!$H$7:$H$1247,MATCH(B24,Historical!$B$7:$B$1278,0)))^(1/5)-1)*100) -> 11.582388 | V24: =IF(INDEX(Historical!$O$7:$O$1247,MATCH(B24,Historical!$B$7:$B$1278,0))=0,"n/a",((INDEX(Historical!$C$7:$C$1256,MATCH(B24,Historical!$B$7:$B$1278,0))/INDEX(Historical!$O$7:$O$1247,MATCH(B24,Historical!$B$7:$B$1278,0)))^(1/10)-1)*100) -> 10.775881 | W24: =IF(OR(U24<=0,U24="n/a",V24<=0,V24="n/a"),"n/a",U24/V24) -> 1.0748437 | X24: =IF(OR(AJ24<=0,AJ24="n/a",U24<=0,U24="n/a"),"n/a",U24/AJ24) -> 1.2321689 | Z24: =IF(OR(AC24<0.01,AC24="n/a"),"n/a",M24/AC24*100) -> 43.373494 | AA24: =IF(OR(AC24<0.01,AC24="n/a"),"n/a",I24/AC24) -> 44.180723 | AB24: 12 | AC24: 1.66 | AD24: 2.97 | AE24: 5.09 | AF24: 6.25 | AG24: 14.5 | AH24: 69.6 | AI24: 9.54 | AJ24: 9.4 | AK24: 14.9 | AL24: 2140 | AM24: 0.2 | AN24: 0.01 | AO24: =IF(U24="n/a","n/a",IF(AA24<0,"n/a",IF(AA24="n/a","n/a",J24+U24-AA24))) -> -31.616606 | AP24: =IF(U24="n/a","n/a",J24+U24) -> 12.564117 | AQ24: =IF(OR(AC24<0.01,AF24="n/a"),"n/a",(I24/SQRT(22.5*AC24*(I24/AF24))-1)*100) -> 250.32018 | AR24: =INDEX(Historical!$C$7:$C$1256,MATCH(B24,Historical!$B$7:$B$1278,0))*IF(AH24="n/a",1.03,IF(AH24<0,1.01,IF(AH24>10,1.1,(1+AH24/100)))) -> 0.704 | AS24: =IF($AI24="n/a",1.03*AR24,IF($AI24<0,1.01*AR24,IF($AI24>10,1.1*AR24,(1+$AI24/100)*AR24))) -> 0.7711616 | AT24: =IF($AK24="n/a",1.03*AS24,IF($AK24<0,1.01*AS24,IF($AK24>10,1.1*AS24,(1+$AK24/100)*AS24))) -> 0.84827776 | AU24: =IF($AK24="n/a",1.03*AT24,IF($AK24<0,1.01*AT24,IF($AK24>10,1.1*AT24,(1+$AK24/100)*AT24))) -> 0.93310554 | AV24: =IF($AK24="n/a",1.03*AU24,IF($AK24<0,1.01*AU24,IF($AK24>10,1.1*AU24,(1+$AK24/100)*AU24))) -> 1.0264161 | AW24: =SUM(AR24:AV24) -> 4.282961 | AX24: =AW24/I24*100 -> 5.8398704 | AY24: 0.79 | AZ24: 76.72 | BA24: -11.53 | BB24: 8.95 | BC24: 17.43 | BE24: 1993 | BF24: =IF(BE24>2008,0,IF(BE24>2001,1,IF(BE24>1990,2,IF(BE24>1980,3,IF(BE24>1973,4,IF(BE24>1970,5,IF(BE24>1960,6,IF(BE24>1958,7,IF(BE24>1953,8,9))))))))) -> 2 | BG24: 11.3
A25: Brady Corp. | B25: BRC | C25: Industrials | D25: Commercial Services & Supplies | E25: 35 | F25: 79 | G25: N | H25: N | I25: 37.72 | J25: =(M25/I25)*100 -> 2.3329799 | K25: 0.22 | L25: 4 | M25: =K25*L25 -> 0.88 | N25: A31 | O25: 0.2175 | P25: 44112 | Q25: 44134 | R25: =(K25-O25)/O25*100 -> 1.1494253 | S25: =IF(INDEX(Historical!$D$7:$D$1254,MATCH(B25,Historical!$B$7:$B$1278,0))=0,"n/a",(INDEX(Historical!$C$7:$C$1256,MATCH(B25,Historical!$B$7:$B$1278,0))/INDEX(Historical!$D$7:$D$1254,MATCH(B25,Historical!$B$7:$B$1278,0))-1)*100) -> 2.5179856 | T25: =IF(INDEX(Historical!$F$7:$F$1247,MATCH(B25,Historical!$B$7:$B$1278,0))=0,"n/a",((INDEX(Historical!$C$7:$C$1256,MATCH(B25,Historical!$B$7:$B$1278,0))/INDEX(Historical!$F$7:$F$1247,MATCH(B25,Historical!$B$7:$B$1278,0)))^(1/3)-1)*100) -> 1.7140425 | U25: =IF(INDEX(Historical!$H$7:$H$1247,MATCH(B25,Historical!$B$7:$B$1278,0))=0,"n/a",((INDEX(Historical!$C$7:$C$1256,MATCH(B25,Historical!$B$7:$B$1278,0))/INDEX(Historical!$H$7:$H$1247,MATCH(B25,Historical!$B$7:$B$1278,0)))^(1/5)-1)*100) -> 1.7230309 | V25: =IF(INDEX(Historical!$O$7:$O$1247,MATCH(B25,Historical!$B$7:$B$1278,0))=0,"n/a",((INDEX(Historical!$C$7:$C$1256,MATCH(B25,Historical!$B$7:$B$1278,0))/INDEX(Historical!$O$7:$O$1247,MATCH(B25,Historical!$B$7:$B$1278,0)))^(1/10)-1)*100) -> 2.2415805 | W25: =IF(OR(U25<=0,U25="n/a",V25<=0,V25="n/a"),"n/a",U25/V25) -> 0.76866785 | X25: =IF(OR(AJ25<=0,AJ25="n/a",U25<=0,U25="n/a"),"n/a",U25/AJ25) -> 0.01868797 | Z25: =IF(OR(AC25<0.01,AC25="n/a"),"n/a",M25/AC25*100) -> 42.105263 | AA25: =IF(OR(AC25<0.01,AC25="n/a"),"n/a",I25/AC25) -> 18.047847 | AB25: 7 | AC25: 2.09 | AD25: 2.58 | AE25: 1.79 | AF25: 2.27 | AG25: 12.9 | AH25: -14.3 | AI25: 10.85 | AJ25: 92.2 | AK25: 7 | AL25: 1940 | AM25: 1.7 | AN25: 0 | AO25: =IF(U25="n/a","n/a",IF(AA25<0,"n/a",IF(AA25="n/a","n/a",J25+U25-AA25))) -> -13.991836 | AP25: =IF(U25="n/a","n/a",J25+U25) -> 4.0560107 | AQ25: =IF(OR(AC25<0.01,AF25="n/a"),"n/a",(I25/SQRT(22.5*AC25*(I25/AF25))-1)*100) -> 34.938031 | AR25: =INDEX(Historical!$C$7:$C$1256,MATCH(B25,Historical!$B$7:$B$1278,0))*IF(AH25="n/a",1.03,IF(AH25<0,1.01,IF(AH25>10,1.1,(1+AH25/100)))) -> 0.86355 | AS25: =IF($AI25="n/a",1.03*AR25,IF($AI25<0,1.01*AR25,IF($AI25>10,1.1*AR25,(1+$AI25/100)*AR25))) -> 0.949905 | AT25: =IF($AK25="n/a",1.03*AS25,IF($AK25<0,1.01*AS25,IF($AK25>10,1.1*AS25,(1+$AK25/100)*AS25))) -> 1.0163984 | AU25: =IF($AK25="n/a",1.03*AT25,IF($AK25<0,1.01*AT25,IF($AK25>10,1.1*AT25,(1+$AK25/100)*AT25))) -> 1.0875462 | AV25: =IF($AK25="n/a",1.03*AU25,IF($AK25<0,1.01*AU25,IF($AK25>10,1.1*AU25,(1+$AK25/100)*AU25))) -> 1.1636745 | AW25: =SUM(AR25:AV25) -> 5.0810741 | AX25: =AW25/I25*100 -> 13.470504 | AY25: 0.67 | AZ25: 14.3 | BA25: -36.19 | BB25: -12.24 | BC25: -18.69 | BE25: 1986 | BF25: =IF(BE25>2008,0,IF(BE25>2001,1,IF(BE25>1990,2,IF(BE25>1980,3,IF(BE25>1973,4,IF(BE25>1970,5,IF(BE25>1960,6,IF(BE25>1958,7,IF(BE25>1953,8,9))))))))) -> 3 | BG25: 9.4
